Workbook

Sheet OB Linear
A1: Item | B1: Length | C1: Price | D1: Price Per MM | E1: Price Per CM | F1: Qty | G1: Ext Price | H1: Link | I1: Item | J1: Length | K1: Price | L1: Price Per MM | M1: Price Per CM | N1: Qty | O1: Ext Price | P1: Link | Q1: Total Cost | R1: =SUM(R2:R8) -> 0
A2: 2020 | B2: 250 | C2: 3 | D2: =C2/B2 -> 0.012 | E2: =C2/B2*10 -> 0.12 | F2: 0 | G2: =C2*F2 -> 0 | I2: 2020 Black | J2: 250 | K2: 3 | L2: =K2/J2 -> 0.012 | M2: =K2/J2*10 -> 0.12 | O2: =K2*N2 -> 0 | Q2: Linear Cost | R2: =SUM(G:G,O:O) -> 0
B3: 500 | C3: 5 | D3: =C3/B3 -> 0.01 | E3: =C3/B3*10 -> 0.1 | G3: =C3*F3 -> 0 | J3: 500 | K3: 5 | L3: =K3/J3 -> 0.01 | M3: =K3/J3*10 -> 0.1 | O3: =K3*N3 -> 0 | Q3: Plate Cost | R3: =SUM(Plates!I1) -> 0
B4: 750 | D4: =C4/B4 -> 0 | E4: =C4/B4*10 -> 0 | F4: 0 | G4: =C4*F4 -> 0 | J4: 750 | L4: =K4/J4 -> 0 | M4: =K4/J4*10 -> 0 | O4: =K4*N4 -> 0 | Q4: Bracket Cost | R4: =SUM(Bracket!I1) -> 0
B5: 1000 | C5: 10 | D5: =C5/B5 -> 0.01 | E5: =C5/B5*10 -> 0.1 | F5: 0 | G5: =C5*F5 -> 0 | J5: 1000 | K5: 10 | L5: =K5/J5 -> 0.01 | M5: =K5/J5*10 -> 0.1 | O5: =K5*N5 -> 0 | Q5: Bolts Cost | R5: =SUM('Bolts And Stuff'!I1) -> 0
B6: 1500 | C6: 15 | D6: =C6/B6 -> 0.01 | E6: =C6/B6*10 -> 0.1 | G6: =C6*F6 -> 0 | J6: 1500 | K6: 15 | L6: =K6/J6 -> 0.01 | M6: =K6/J6*10 -> 0.1 | O6: =K6*N6 -> 0 | Q6: Motor Cost | R6: =SUM(Motors!I1) -> 0
A7: 2040 | B7: 250 | C7: 3.75 | D7: =C7/B7 -> 0.015 | E7: =C7/B7*10 -> 0.15 | G7: =C7*F7 -> 0 | I7: 2040 Black | J7: 250 | K7: 3.75 | L7: =K7/J7 -> 0.015 | M7: =K7/J7*10 -> 0.15 | O7: =K7*N7 -> 0 | Q7: Belt Cost | R7: =SUM(Belts!I1) -> 0
B8: 500 | C8: 6.5 | D8: =C8/B8 -> 0.013 | E8: =C8/B8*10 -> 0.13 | G8: =C8*F8 -> 0 | J8: 500 | K8: 6.5 | L8: =K8/J8 -> 0.013 | M8: =K8/J8*10 -> 0.13 | O8: =K8*N8 -> 0 | Q8: Electronics Cost | R8: =SUM(Electronics!I1) -> 0
B9: 750 | D9: =C9/B9 -> 0 | E9: =C9/B9*10 -> 0 | G9: =C9*F9 -> 0 | J9: 750 | L9: =K9/J9 -> 0 | M9: =K9/J9*10 -> 0 | O9: =K9*N9 -> 0
B10: 1000 | C10: 13 | D10: =C10/B10 -> 0.013 | E10: =C10/B10*10 -> 0.13 | G10: =C10*F10 -> 0 | J10: 1000 | K10: 13 | L10: =K10/J10 -> 0.013 | M10: =K10/J10*10 -> 0.13 | O10: =K10*N10 -> 0
B11: 1500 | C11: 19.5 | D11: =C11/B11 -> 0.013 | E11: =C11/B11*10 -> 0.13 | G11: =C11*F11 -> 0 | J11: 1500 | K11: 19.5 | L11: =K11/J11 -> 0.013 | M11: =K11/J11*10 -> 0.13 | O11: =K11*N11 -> 0
A12: 2060 | B12: 250 | C12: 4.25 | D12: =C12/B12 -> 0.017 | E12: =C12/B12*10 -> 0.17 | G12: =C12*F12 -> 0 | I12: 2060 Black | J12: 250 | K12: 4.25 | L12: =K12/J12 -> 0.017 | M12: =K12/J12*10 -> 0.17 | O12: =K12*N12 -> 0
B13: 500 | C13: 8 | D13: =C13/B13 -> 0.016 | E13: =C13/B13*10 -> 0.16 | G13: =C13*F13 -> 0 | J13: 500 | K13: 8 | L13: =K13/J13 -> 0.016 | M13: =K13/J13*10 -> 0.16 | O13: =K13*N13 -> 0
B14: 750 | D14: =C14/B14 -> 0 | E14: =C14/B14*10 -> 0 | G14: =C14*F14 -> 0 | J14: 750 | L14: =K14/J14 -> 0 | M14: =K14/J14*10 -> 0 | O14: =K14*N14 -> 0
B15: 1000 | C15: 15.5 | D15: =C15/B15 -> 0.0155 | E15: =C15/B15*10 -> 0.155 | G15: =C15*F15 -> 0 | J15: 1000 | K15: 15.5 | L15: =K15/J15 -> 0.0155 | M15: =K15/J15*10 -> 0.155 | O15: =K15*N15 -> 0
B16: 1500 | C16: 23 | D16: =C16/B16 -> 0.015333333 | E16: =C16/B16*10 -> 0.15333333 | G16: =C16*F16 -> 0 | J16: 1500 | K16: 23 | L16: =K16/J16 -> 0.015333333 | M16: =K16/J16*10 -> 0.15333333 | O16: =K16*N16 -> 0
A17: 2080 | B17: 250 | C17: 5.5 | D17: =C17/B17 -> 0.022 | E17: =C17/B17*10 -> 0.22 | G17: =C17*F17 -> 0 | I17: 2080 Black | J17: 250 | K17: 5.5 | L17: =K17/J17 -> 0.022 | M17: =K17/J17*10 -> 0.22 | O17: =K17*N17 -> 0
B18: 500 | C18: 10 | D18: =C18/B18 -> 0.02 | E18: =C18/B18*10 -> 0.2 | G18: =C18*F18 -> 0 | J18: 500 | K18: 10 | L18: =K18/J18 -> 0.02 | M18: =K18/J18*10 -> 0.2 | O18: =K18*N18 -> 0
B19: 750 | C19: 0 | D19: =C19/B19 -> 0 | E19: =C19/B19*10 -> 0 | G19: =C19*F19 -> 0 | J19: 750 | K19: 0 | L19: =K19/J19 -> 0 | M19: =K19/J19*10 -> 0 | O19: =K19*N19 -> 0
B20: 1000 | C20: 20 | D20: =C20/B20 -> 0.02 | E20: =C20/B20*10 -> 0.2 | G20: =C20*F20 -> 0 | J20: 1000 | K20: 20 | L20: =K20/J20 -> 0.02 | M20: =K20/J20*10 -> 0.2 | O20: =K20*N20 -> 0
B21: 1500 | C21: 30 | D21: =C21/B21 -> 0.02 | E21: =C21/B21*10 -> 0.2 | G21: =C21*F21 -> 0 | J21: 1500 | K21: 30 | L21: =K21/J21 -> 0.02 | M21: =K21/J21*10 -> 0.2 | O21: =K21*N21 -> 0
A22: 4040 | B22: 250 | C22: 5.5 | D22: =C22/B22 -> 0.022 | E22: =C22/B22*10 -> 0.22 | G22: =C22*F22 -> 0 | I22: 4040 Black | J22: 250 | K22: 5.5 | L22: =K22/J22 -> 0.022 | M22: =K22/J22*10 -> 0.22 | O22: =K22*N22 -> 0
B23: 500 | C23: 10 | D23: =C23/B23 -> 0.02 | E23: =C23/B23*10 -> 0.2 | G23: =C23*F23 -> 0 | J23: 500 | K23: 10 | L23: =K23/J23 -> 0.02 | M23: =K23/J23*10 -> 0.2 | O23: =K23*N23 -> 0
B24: 750 | D24: =C24/B24 -> 0 | E24: =C24/B24*10 -> 0 | G24: =C24*F24 -> 0 | J24: 750 | L24: =K24/J24 -> 0 | M24: =K24/J24*10 -> 0 | O24: =K24*N24 -> 0
B25: 1000 | C25: 20 | D25: =C25/B25 -> 0.02 | E25: =C25/B25*10 -> 0.2 | G25: =C25*F25 -> 0 | J25: 1000 | K25: 20 | L25: =K25/J25 -> 0.02 | M25: =K25/J25*10 -> 0.2 | O25: =K25*N25 -> 0
B26: 1500 | C26: 30 | D26: =C26/B26 -> 0.02 | E26: =C26/B26*10 -> 0.2 | G26: =C26*F26 -> 0 | J26: 1500 | K26: 30 | L26: =K26/J26 -> 0.02 | M26: =K26/J26*10 -> 0.2 | O26: =K26*N26 -> 0
A27: C-Beam | B27: 250 | C27: 7 | D27: =C27/B27 -> 0.028 | E27: =C27/B27*10 -> 0.28 | G27: =C27*F27 -> 0 | I27: C-Beam Black | J27: 250 | K27: 7 | L27: =K27/J27 -> 0.028 | M27: =K27/J27*10 -> 0.28 | O27: =K27*N27 -> 0
B28: 500 | C28: 14 | D28: =C28/B28 -> 0.028 | E28: =C28/B28*10 -> 0.28 | G28: =C28*F28 -> 0 | J28: 500 | K28: 14 | L28: =K28/J28 -> 0.028 | M28: =K28/J28*10 -> 0.28 | O28: =K28*N28 -> 0
B29: 750 | C29: 0 | D29: =C29/B29 -> 0 | E29: =C29/B29*10 -> 0 | G29: =C29*F29 -> 0 | J29: 750 | K29: 0 | L29: =K29/J29 -> 0 | M29: =K29/J29*10 -> 0 | O29: =K29*N29 -> 0
B30: 1000 | C30: 28 | D30: =C30/B30 -> 0.028 | E30: =C30/B30*10 -> 0.28 | G30: =C30*F30 -> 0 | J30: 1000 | K30: 28 | L30: =K30/J30 -> 0.028 | M30: =K30/J30*10 -> 0.28 | O30: =K30*N30 -> 0
B31: 1500 | C31: 39 | D31: =C31/B31 -> 0.026 | E31: =C31/B31*10 -> 0.26 | G31: =C31*F31 -> 0 | J31: 1500 | K31: 39 | L31: =K31/J31 -> 0.026 | M31: =K31/J31*10 -> 0.26 | O31: =K31*N31 -> 0

Sheet Plates
A1: Item | B1: Price | C1: Qty | D1: Ext Price | E1: Link | H1: Plate Cost | I1: =SUM(D:D) -> 0
B2: 0 | C2: 0 | D2: =B2*C2 -> 0
B3: 0 | C3: 0 | D3: =B3*C3 -> 0
B4: 0 | C4: 0 | D4: =B4*C4 -> 0
B5: 0 | C5: 0 | D5: =B5*C5 -> 0
B6: 0 | C6: 0 | D6: =B6*C6 -> 0
B7: 0 | C7: 0 | D7: =B7*C7 -> 0
B8: 0 | C8: 0 | D8: =B8*C8 -> 0
B9: 0 | C9: 0 | D9: =B9*C9 -> 0
B10: 0 | C10: 0 | D10: =B10*C10 -> 0
B11: 0 | C11: 0 | D11: =B11*C11 -> 0
B12: 0 | C12: 0 | D12: =B12*C12 -> 0
B13: 0 | C13: 0 | D13: =B13*C13 -> 0
... B50: 0 | C50: 0 | D50: =B50*C50 -> 0

Sheet Bracket
A1: Item | B1: Price | C1: Qty | D1: Ext Price | E1: Link | H1: Brackets Cost | I1: =SUM(D:D) -> 0
B2: 0 | C2: 0 | D2: =B2*C2 -> 0
B3: 0 | C3: 0 | D3: =B3*C3 -> 0
B4: 0 | C4: 0 | D4: =B4*C4 -> 0
B5: 0 | C5: 0 | D5: =B5*C5 -> 0
B6: 0 | C6: 0 | D6: =B6*C6 -> 0
B7: 0 | C7: 0 | D7: =B7*C7 -> 0
B8: 0 | C8: 0 | D8: =B8*C8 -> 0
B9: 0 | C9: 0 | D9: =B9*C9 -> 0
B10: 0 | C10: 0 | D10: =B10*C10 -> 0
B11: 0 | C11: 0 | D11: =B11*C11 -> 0
B12: 0 | C12: 0 | D12: =B12*C12 -> 0
B13: 0 | C13: 0 | D13: =B13*C13 -> 0
... B50: 0 | C50: 0 | D50: =B50*C50 -> 0

Sheet Bolts And Stuff
A1: Item | B1: Price | C1: Qty | D1: Ext Price | E1: Link | H1: Bolts Cost | I1: =SUM(D:D) -> 0
B2: 0 | C2: 0 | D2: =B2*C2 -> 0
B3: 0 | C3: 0 | D3: =B3*C3 -> 0
B4: 0 | C4: 0 | D4: =B4*C4 -> 0
B5: 0 | C5: 0 | D5: =B5*C5 -> 0
B6: 0 | C6: 0 | D6: =B6*C6 -> 0
B7: 0 | C7: 0 | D7: =B7*C7 -> 0
B8: 0 | C8: 0 | D8: =B8*C8 -> 0
B9: 0 | C9: 0 | D9: =B9*C9 -> 0
B10: 0 | C10: 0 | D10: =B10*C10 -> 0
B11: 0 | C11: 0 | D11: =B11*C11 -> 0
B12: 0 | C12: 0 | D12: =B12*C12 -> 0
B13: 0 | C13: 0 | D13: =B13*C13 -> 0
... B50: 0 | C50: 0 | D50: =B50*C50 -> 0

Sheet Motors
A1: Item | B1: Price | C1: Qty | D1: Ext Price | E1: Link | H1: Motors Cost | I1: =SUM(D:D) -> 0
B2: 0 | C2: 0 | D2: =B2*C2 -> 0
B3: 0 | C3: 0 | D3: =B3*C3 -> 0
B4: 0 | C4: 0 | D4: =B4*C4 -> 0
B5: 0 | C5: 0 | D5: =B5*C5 -> 0
B6: 0 | C6: 0 | D6: =B6*C6 -> 0
B7: 0 | C7: 0 | D7: =B7*C7 -> 0
B8: 0 | C8: 0 | D8: =B8*C8 -> 0
B9: 0 | C9: 0 | D9: =B9*C9 -> 0
B10: 0 | C10: 0 | D10: =B10*C10 -> 0
B11: 0 | C11: 0 | D11: =B11*C11 -> 0
B12: 0 | C12: 0 | D12: =B12*C12 -> 0
B13: 0 | C13: 0 | D13: =B13*C13 -> 0
... B50: 0 | C50: 0 | D50: =B50*C50 -> 0

Sheet Belts
A1: Item | B1: Price | C1: Qty | D1: Ext Price | E1: Link | H1: PlateBelts | I1: =SUM(D:D) -> 0
B2: 0 | C2: 0 | D2: =B2*C2 -> 0
B3: 0 | C3: 0 | D3: =B3*C3 -> 0
B4: 0 | C4: 0 | D4: =B4*C4 -> 0
B5: 0 | C5: 0 | D5: =B5*C5 -> 0
B6: 0 | C6: 0 | D6: =B6*C6 -> 0
B7: 0 | C7: 0 | D7: =B7*C7 -> 0
B8: 0 | C8: 0 | D8: =B8*C8 -> 0
B9: 0 | C9: 0 | D9: =B9*C9 -> 0
B10: 0 | C10: 0 | D10: =B10*C10 -> 0
B11: 0 | C11: 0 | D11: =B11*C11 -> 0
B12: 0 | C12: 0 | D12: =B12*C12 -> 0
B13: 0 | C13: 0 | D13: =B13*C13 -> 0
... B50: 0 | C50: 0 | D50: =B50*C50 -> 0

Sheet Electronics
A1: Item | B1: Price | C1: Qty | D1: Ext Price | E1: Link | H1: Electronics Cost | I1: =SUM(D:D) -> 0
B2: 0 | C2: 0 | D2: =B2*C2 -> 0
B3: 0 | C3: 0 | D3: =B3*C3 -> 0
B4: 0 | C4: 0 | D4: =B4*C4 -> 0
B5: 0 | C5: 0 | D5: =B5*C5 -> 0
B6: 0 | C6: 0 | D6: =B6*C6 -> 0
B7: 0 | C7: 0 | D7: =B7*C7 -> 0
B8: 0 | C8: 0 | D8: =B8*C8 -> 0
B9: 0 | C9: 0 | D9: =B9*C9 -> 0
B10: 0 | C10: 0 | D10: =B10*C10 -> 0
B11: 0 | C11: 0 | D11: =B11*C11 -> 0
B12: 0 | C12: 0 | D12: =B12*C12 -> 0
B13: 0 | C13: 0 | D13: =B13*C13 -> 0
... B50: 0 | C50: 0 | D50: =B50*C50 -> 0
